BEGIN:VCALENDAR
VERSION:2.0
PRODID:-//FDP Teltow - ECPv6.15.13.1//NONSGML v1.0//EN
CALSCALE:GREGORIAN
METHOD:PUBLISH
X-ORIGINAL-URL:https://www.fdp-teltow.de
X-WR-CALDESC:Veranstaltungen für FDP Teltow
REFRESH-INTERVAL;VALUE=DURATION:PT1H
X-Robots-Tag:noindex
X-PUBLISHED-TTL:PT1H
BEGIN:VTIMEZONE
TZID:Europe/Paris
BEGIN:DAYLIGHT
TZOFFSETFROM:+0100
TZOFFSETTO:+0200
TZNAME:CEST
DTSTART:20250330T010000
END:DAYLIGHT
BEGIN:STANDARD
TZOFFSETFROM:+0200
TZOFFSETTO:+0100
TZNAME:CET
DTSTART:20251026T010000
END:STANDARD
BEGIN:DAYLIGHT
TZOFFSETFROM:+0100
TZOFFSETTO:+0200
TZNAME:CEST
DTSTART:20260329T010000
END:DAYLIGHT
BEGIN:STANDARD
TZOFFSETFROM:+0200
TZOFFSETTO:+0100
TZNAME:CET
DTSTART:20261025T010000
END:STANDARD
BEGIN:DAYLIGHT
TZOFFSETFROM:+0100
TZOFFSETTO:+0200
TZNAME:CEST
DTSTART:20270328T010000
END:DAYLIGHT
BEGIN:STANDARD
TZOFFSETFROM:+0200
TZOFFSETTO:+0100
TZNAME:CET
DTSTART:20271031T010000
END:STANDARD
END:VTIMEZONE
BEGIN:VEVENT
DTSTART;TZID=Europe/Paris:20260505T183000
DTEND;TZID=Europe/Paris:20260505T183000
DTSTAMP:20260421T111524
CREATED:20260111T161748Z
LAST-MODIFIED:20260111T161748Z
UID:3706-1778005800-1778005800@www.fdp-teltow.de
SUMMARY:Stammtisch
DESCRIPTION:
URL:https://www.fdp-teltow.de/veranstaltung/stammtisch-17
LOCATION:Grimm’s Hotel\, Gonfrevillestraße 2\, Teltow\, Brandenburg\, 14513\, Deutschland
END:VEVENT
BEGIN:VEVENT
DTSTART;TZID=Europe/Paris:20260506T180000
DTEND;TZID=Europe/Paris:20260506T180000
DTSTAMP:20260421T111524
CREATED:20260111T161841Z
LAST-MODIFIED:20260111T161841Z
UID:3708-1778090400-1778090400@www.fdp-teltow.de
SUMMARY:Sitzung der Stadtverordnetenversammlung
DESCRIPTION:
URL:https://www.fdp-teltow.de/veranstaltung/sitzung-der-stadtverordnetenversammlung-20
LOCATION:Ernst-von-Stubenrauch-Saal\, Neues Rathaus\, Marktplatz 1-3\, Teltow\, 14513
END:VEVENT
BEGIN:VEVENT
DTSTART;TZID=Europe/Paris:20260630T183000
DTEND;TZID=Europe/Paris:20260630T183000
DTSTAMP:20260421T111524
CREATED:20260111T161935Z
LAST-MODIFIED:20260111T161935Z
UID:3710-1782844200-1782844200@www.fdp-teltow.de
SUMMARY:Stammtisch
DESCRIPTION:
URL:https://www.fdp-teltow.de/veranstaltung/stammtisch-18
LOCATION:Grimm’s Hotel\, Gonfrevillestraße 2\, Teltow\, Brandenburg\, 14513\, Deutschland
END:VEVENT
BEGIN:VEVENT
DTSTART;TZID=Europe/Paris:20260701T180000
DTEND;TZID=Europe/Paris:20260701T180000
DTSTAMP:20260421T111524
CREATED:20260111T162021Z
LAST-MODIFIED:20260111T162021Z
UID:3712-1782928800-1782928800@www.fdp-teltow.de
SUMMARY:Sitzung der Stadtverordnetenversammlung
DESCRIPTION:
URL:https://www.fdp-teltow.de/veranstaltung/sitzung-der-stadtverordnetenversammlung-21
LOCATION:Ernst-von-Stubenrauch-Saal\, Neues Rathaus\, Marktplatz 1-3\, Teltow\, 14513
END:VEVENT
BEGIN:VEVENT
DTSTART;TZID=Europe/Paris:20260929T183000
DTEND;TZID=Europe/Paris:20260929T183000
DTSTAMP:20260421T111524
CREATED:20260111T162115Z
LAST-MODIFIED:20260111T162115Z
UID:3714-1790706600-1790706600@www.fdp-teltow.de
SUMMARY:Stammtisch
DESCRIPTION:
URL:https://www.fdp-teltow.de/veranstaltung/stammtisch-19
LOCATION:Grimm’s Hotel\, Gonfrevillestraße 2\, Teltow\, Brandenburg\, 14513\, Deutschland
END:VEVENT
BEGIN:VEVENT
DTSTART;TZID=Europe/Paris:20260930T180000
DTEND;TZID=Europe/Paris:20260930T180000
DTSTAMP:20260421T111524
CREATED:20260111T162206Z
LAST-MODIFIED:20260111T162206Z
UID:3716-1790791200-1790791200@www.fdp-teltow.de
SUMMARY:Sitzung der Stadtverordnetenversammlung
DESCRIPTION:
URL:https://www.fdp-teltow.de/veranstaltung/sitzung-der-stadtverordnetenversammlung-22
LOCATION:Ernst-von-Stubenrauch-Saal\, Neues Rathaus\, Marktplatz 1-3\, Teltow\, 14513
END:VEVENT
BEGIN:VEVENT
DTSTART;TZID=Europe/Paris:20261201T183000
DTEND;TZID=Europe/Paris:20261201T183000
DTSTAMP:20260421T111524
CREATED:20260111T162305Z
LAST-MODIFIED:20260111T162305Z
UID:3718-1796149800-1796149800@www.fdp-teltow.de
SUMMARY:Stammtisch
DESCRIPTION:
URL:https://www.fdp-teltow.de/veranstaltung/stammtisch-20
LOCATION:Grimm’s Hotel\, Gonfrevillestraße 2\, Teltow\, Brandenburg\, 14513\, Deutschland
END:VEVENT
BEGIN:VEVENT
DTSTART;TZID=Europe/Paris:20261202T183000
DTEND;TZID=Europe/Paris:20261202T183000
DTSTAMP:20260421T111524
CREATED:20260111T162348Z
LAST-MODIFIED:20260111T162348Z
UID:3720-1796236200-1796236200@www.fdp-teltow.de
SUMMARY:Sitzung der Stadtverordnetenversammlung
DESCRIPTION:
URL:https://www.fdp-teltow.de/veranstaltung/sitzung-der-stadtverordnetenversammlung-23
LOCATION:Ernst-von-Stubenrauch-Saal\, Neues Rathaus\, Marktplatz 1-3\, Teltow\, 14513
END:VEVENT
END:VCALENDAR