BEGIN:VCALENDAR
VERSION:2.0
PRODID:-//FDP Teltow - ECPv6.15.13.1//NONSGML v1.0//EN
CALSCALE:GREGORIAN
METHOD:PUBLISH
X-ORIGINAL-URL:https://www.fdp-teltow.de
X-WR-CALDESC:Veranstaltungen für FDP Teltow
REFRESH-INTERVAL;VALUE=DURATION:PT1H
X-Robots-Tag:noindex
X-PUBLISHED-TTL:PT1H
BEGIN:VTIMEZONE
TZID:Europe/Paris
BEGIN:DAYLIGHT
TZOFFSETFROM:+0100
TZOFFSETTO:+0200
TZNAME:CEST
DTSTART:20230326T010000
END:DAYLIGHT
BEGIN:STANDARD
TZOFFSETFROM:+0200
TZOFFSETTO:+0100
TZNAME:CET
DTSTART:20231029T010000
END:STANDARD
BEGIN:DAYLIGHT
TZOFFSETFROM:+0100
TZOFFSETTO:+0200
TZNAME:CEST
DTSTART:20240331T010000
END:DAYLIGHT
BEGIN:STANDARD
TZOFFSETFROM:+0200
TZOFFSETTO:+0100
TZNAME:CET
DTSTART:20241027T010000
END:STANDARD
BEGIN:DAYLIGHT
TZOFFSETFROM:+0100
TZOFFSETTO:+0200
TZNAME:CEST
DTSTART:20250330T010000
END:DAYLIGHT
BEGIN:STANDARD
TZOFFSETFROM:+0200
TZOFFSETTO:+0100
TZNAME:CET
DTSTART:20251026T010000
END:STANDARD
END:VTIMEZONE
BEGIN:VEVENT
DTSTART;TZID=Europe/Paris:20241203T173000
DTEND;TZID=Europe/Paris:20241203T173000
DTSTAMP:20260424T035400
CREATED:20241105T073016Z
LAST-MODIFIED:20241105T074822Z
UID:3509-1733247000-1733247000@www.fdp-teltow.de
SUMMARY:Weihnachtsfeier der FDP Teltow
DESCRIPTION:Liebe Freunde\, \nwir freuen uns sehr\, Euch auch in diesem Jahr zu unserer Weihnachtsfeier am 3. Dezember 2024 einladen zu dürfen! Ab 17:30 Uhr möchten wir mit Euch im Grimms Hotel gemütlich zusammenkommen und die Vorweihnachtszeit feiern. \nBitte gebt uns bis zum 19. November 2024 Bescheid\, ob Ihr dabei seid\, damit wir alles bestens vorbereiten können. \nWir freuen uns schon auf einen wundervollen Abend mit Euch! \nHerzliche Grüße\nEuer FDP Teltow
URL:https://www.fdp-teltow.de/veranstaltung/weihnachtsfeier-der-fdp-teltow
LOCATION:Grimm’s Hotel\, Gonfrevillestraße 2\, Teltow\, Brandenburg\, 14513\, Deutschland
CATEGORIES:Veranstaltungen
END:VEVENT
END:VCALENDAR