BEGIN:VCALENDAR
VERSION:2.0
PRODID:-//FDP Teltow - ECPv6.15.13.1//NONSGML v1.0//EN
CALSCALE:GREGORIAN
METHOD:PUBLISH
X-WR-CALNAME:FDP Teltow
X-ORIGINAL-URL:https://www.fdp-teltow.de
X-WR-CALDESC:Veranstaltungen für FDP Teltow
REFRESH-INTERVAL;VALUE=DURATION:PT1H
X-Robots-Tag:noindex
X-PUBLISHED-TTL:PT1H
BEGIN:VTIMEZONE
TZID:Europe/Paris
BEGIN:DAYLIGHT
TZOFFSETFROM:+0100
TZOFFSETTO:+0200
TZNAME:CEST
DTSTART:20240331T010000
END:DAYLIGHT
BEGIN:STANDARD
TZOFFSETFROM:+0200
TZOFFSETTO:+0100
TZNAME:CET
DTSTART:20241027T010000
END:STANDARD
BEGIN:DAYLIGHT
TZOFFSETFROM:+0100
TZOFFSETTO:+0200
TZNAME:CEST
DTSTART:20250330T010000
END:DAYLIGHT
BEGIN:STANDARD
TZOFFSETFROM:+0200
TZOFFSETTO:+0100
TZNAME:CET
DTSTART:20251026T010000
END:STANDARD
BEGIN:DAYLIGHT
TZOFFSETFROM:+0100
TZOFFSETTO:+0200
TZNAME:CEST
DTSTART:20260329T010000
END:DAYLIGHT
BEGIN:STANDARD
TZOFFSETFROM:+0200
TZOFFSETTO:+0100
TZNAME:CET
DTSTART:20261025T010000
END:STANDARD
END:VTIMEZONE
BEGIN:VEVENT
DTSTART;TZID=Europe/Paris:20251209T183000
DTEND;TZID=Europe/Paris:20251209T183000
DTSTAMP:20260421T160707
CREATED:20241225T205549Z
LAST-MODIFIED:20241225T205549Z
UID:3547-1765305000-1765305000@www.fdp-teltow.de
SUMMARY:Stammtisch
DESCRIPTION:
URL:https://www.fdp-teltow.de/veranstaltung/stammtisch-16
LOCATION:Grimm’s Hotel\, Gonfrevillestraße 2\, Teltow\, Brandenburg\, 14513\, Deutschland
END:VEVENT
BEGIN:VEVENT
DTSTART;TZID=Europe/Paris:20251210T180000
DTEND;TZID=Europe/Paris:20251210T180000
DTSTAMP:20260421T160707
CREATED:20241225T205655Z
LAST-MODIFIED:20241225T205655Z
UID:3549-1765389600-1765389600@www.fdp-teltow.de
SUMMARY:Sitzung der Stadtverordnetenversammlung
DESCRIPTION:
URL:https://www.fdp-teltow.de/veranstaltung/sitzung-der-stadtverordnetenversammlung-17
LOCATION:Ernst-von-Stubenrauch-Saal\, Neues Rathaus\, Marktplatz 1-3\, Teltow\, 14513
END:VEVENT
END:VCALENDAR