BEGIN:VCALENDAR
VERSION:2.0
PRODID:-//FDP Teltow - ECPv6.15.13.1//NONSGML v1.0//EN
CALSCALE:GREGORIAN
METHOD:PUBLISH
X-WR-CALNAME:FDP Teltow
X-ORIGINAL-URL:https://www.fdp-teltow.de
X-WR-CALDESC:Veranstaltungen für FDP Teltow
REFRESH-INTERVAL;VALUE=DURATION:PT1H
X-Robots-Tag:noindex
X-PUBLISHED-TTL:PT1H
BEGIN:VTIMEZONE
TZID:Europe/Paris
BEGIN:DAYLIGHT
TZOFFSETFROM:+0100
TZOFFSETTO:+0200
TZNAME:CEST
DTSTART:20250330T010000
END:DAYLIGHT
BEGIN:STANDARD
TZOFFSETFROM:+0200
TZOFFSETTO:+0100
TZNAME:CET
DTSTART:20251026T010000
END:STANDARD
BEGIN:DAYLIGHT
TZOFFSETFROM:+0100
TZOFFSETTO:+0200
TZNAME:CEST
DTSTART:20260329T010000
END:DAYLIGHT
BEGIN:STANDARD
TZOFFSETFROM:+0200
TZOFFSETTO:+0100
TZNAME:CET
DTSTART:20261025T010000
END:STANDARD
BEGIN:DAYLIGHT
TZOFFSETFROM:+0100
TZOFFSETTO:+0200
TZNAME:CEST
DTSTART:20270328T010000
END:DAYLIGHT
BEGIN:STANDARD
TZOFFSETFROM:+0200
TZOFFSETTO:+0100
TZNAME:CET
DTSTART:20271031T010000
END:STANDARD
END:VTIMEZONE
BEGIN:VEVENT
DTSTART;TZID=Europe/Paris:20260111T110000
DTEND;TZID=Europe/Paris:20260111T110000
DTSTAMP:20260421T143126
CREATED:20260111T160909Z
LAST-MODIFIED:20260111T160909Z
UID:3698-1768129200-1768129200@www.fdp-teltow.de
SUMMARY:Drei Königstreffen TKS
DESCRIPTION:
URL:https://www.fdp-teltow.de/veranstaltung/drei-koenigstreffen-tks
LOCATION:Ginn Hotel\, Warthestraße 20\, Teltow\, Brandenburg\, 14513\, Deutschland
END:VEVENT
BEGIN:VEVENT
DTSTART;TZID=Europe/Paris:20260114T173000
DTEND;TZID=Europe/Paris:20260114T173000
DTSTAMP:20260421T143126
CREATED:20260111T161214Z
LAST-MODIFIED:20260111T161214Z
UID:3700-1768411800-1768411800@www.fdp-teltow.de
SUMMARY:Sitzung der Stadtverordnetenversammlung
DESCRIPTION:
URL:https://www.fdp-teltow.de/veranstaltung/sitzung-der-stadtverordnetenversammlung-18
LOCATION:Ernst-von-Stubenrauch-Saal\, Neues Rathaus\, Marktplatz 1-3\, Teltow\, 14513
END:VEVENT
END:VCALENDAR